BEGIN:VCALENDAR
VERSION:2.0
PRODID:-//Community Housing Transformation Centre - Centre de transformation du logement communautaire - ECPv6.15.20//NONSGML v1.0//EN
CALSCALE:GREGORIAN
METHOD:PUBLISH
X-WR-CALNAME:Community Housing Transformation Centre - Centre de transformation du logement communautaire
X-ORIGINAL-URL:https://centre.support
X-WR-CALDESC:Events for Community Housing Transformation Centre - Centre de transformation du logement communautaire
REFRESH-INTERVAL;VALUE=DURATION:PT1H
X-Robots-Tag:noindex
X-PUBLISHED-TTL:PT1H
BEGIN:VTIMEZONE
TZID:America/New_York
BEGIN:DAYLIGHT
TZOFFSETFROM:-0500
TZOFFSETTO:-0400
TZNAME:EDT
DTSTART:20250309T070000
END:DAYLIGHT
BEGIN:STANDARD
TZOFFSETFROM:-0400
TZOFFSETTO:-0500
TZNAME:EST
DTSTART:20251102T060000
END:STANDARD
BEGIN:DAYLIGHT
TZOFFSETFROM:-0500
TZOFFSETTO:-0400
TZNAME:EDT
DTSTART:20260308T070000
END:DAYLIGHT
BEGIN:STANDARD
TZOFFSETFROM:-0400
TZOFFSETTO:-0500
TZNAME:EST
DTSTART:20261101T060000
END:STANDARD
BEGIN:DAYLIGHT
TZOFFSETFROM:-0500
TZOFFSETTO:-0400
TZNAME:EDT
DTSTART:20270314T070000
END:DAYLIGHT
BEGIN:STANDARD
TZOFFSETFROM:-0400
TZOFFSETTO:-0500
TZNAME:EST
DTSTART:20271107T060000
END:STANDARD
END:VTIMEZONE
BEGIN:VEVENT
DTSTART;VALUE=DATE:20260420
DTEND;VALUE=DATE:20260423
DTSTAMP:20260421T061551
CREATED:20260303T164143Z
LAST-MODIFIED:20260303T164143Z
UID:10000078-1776643200-1776902399@centre.support
SUMMARY:CHRA's Congress on Housing and Homelessness
DESCRIPTION:The 2026 CHRA National Congress on Housing and Homelessness is taking place in in St. John’s\, Newfoundland and Labrador\, April 20-22. \nThe event will be held at the St. John’s Convention Centre. \nThis year’s Congress sessions are designed to challenge the way you think about housing. We’ll examine cutting edge initiatives\, partnerships\, and programs that are bringing the community housing sector into the future. Join expert speakers as they explore topics including: \n\nScaling up housing development\nInclusive housing solutions\nEquity in housing\nChange management and organizational sustainability\nCreative funding solutions\nInnovative partnerships\nSupportive housing development and programs\nAdvocacy\nSupporting successful tenancies\, and more\n\n  \nNot to be missed : \n⇒ Atlantic Connection: Whaddayat housers? \nCo-hosted by CMHC’s Expert Community on Housing (ECoH) Atlantic Community of Practice and the Centre\, join in a special Atlantic Canada afternoon of sharing innovative initiatives and networking wit yer b’ys. \n(Free for Atlantic housers) \nApril 20\, 12:30 PM – 4:30 PM (NST) \n  \nCentre’s attendance at the Congress: \nLisa Ker\, executive director\, Alison Lair\, Director of programs\, Stephan Richard\, Director of development\, François Fayad\, Communications director\, Majed Hargaaya\, Manager\, Regional energy coach\, Jenny Laurin\, Regional energy coach\, Luc Labelle\, Development manager\, Kerri Flemming\, Program manager. \n\nLuc Labelle\, Development manager\, and Stephan Richard\, Director of development\, will participate in the session Creating the Conditions for Better Decisions. Fellow speakers will be Catriona McCallum\, Director\, Operations\, The Agency for Co-operative Housing and Helen Harris\, SHS’s Principal\, Housing Policy and Research.\n\nApril 21\, 1:30 PM – 3:00 PM (NST) \n\nJennie Laurin\, Regional Energy Coach\, and Majed Hargaaya\, Manager\, Regional Energy Coach\, will participate in the session Designing Resilient Housing: A World Café Workshop for Practical Solutions. They will be joined in the session by Kallyn DeGrace\, Regional Energy Coach with Clean Foundation\, Kayla Fayant\, Energy Efficiency Projects Manager\, Indigenous Clean Energy and Neha Prakash\, Regional Energy Coach\, Manitoba Non-profit Housing Association (MNPHA).\n\nApril 21\, 3:30 PM – 4:30 PM (NST) \n\nStephan Richard\, Director of development and with Hope Jamieson will co-host the session Unlocking Growth across Atlantic Canada.\n\nApril 22\, 10:30 AM – 12:00 PM (NST) \nMore information and registration details can be found here \n 
URL:https://centre.support/event/chras-congress-on-housing-and-homelessness/
LOCATION:St. John’s Convention Centre\, 101 New Gower Street\, St. John's\, Newfoundland & Labrador\, A1C 1J5\, Canada
CATEGORIES:Conference
END:VEVENT
BEGIN:VEVENT
DTSTART;VALUE=DATE:20260511
DTEND;VALUE=DATE:20260515
DTSTAMP:20260421T061551
CREATED:20260303T194349Z
LAST-MODIFIED:20260303T194349Z
UID:10000080-1778457600-1778803199@centre.support
SUMMARY:Housing Forward: 2026 Prairies Affordable Housing Summit
DESCRIPTION:This multi-day event will bring together housing providers\, developers\, builders\, planners\, governments\, funders\, and sector leaders from across the Prairies and beyond to explore what’s working\, what’s emerging\, and what it will take to meaningfully advance housing affordability. \nProgramming will focus on: \n\nInnovative and scalable affordable housing delivery\, including cost-effective\, climate-resilient\, and accessible design\nHousing as health\, exploring the role of housing in preventing homelessness\, improving health outcomes\, and reducing pressure on emergency and health systems\nOrganizational capacity\, workforce development\, and long-term operational sustainability across the housing sectors\nFunding\, financing\, and partnership models that support cross-sector collaboration\, including Indigenous-led and community-based delivery\nPolicy\, planning\, and system alignment to enable faster approvals\, inclusive design\, and better outcomes\nIndigenous leadership and perspectives in housing\, including culturally responsive design\, land-based approaches\, and pathways to reconciliation\n\nSummary program: \n\nMay 11: Welcome Reception\nMay 12–13: Main Summit Days\nMay 14: Optional site-visit excursions\n\nMore information on the Centre’s participation to come.
URL:https://centre.support/event/housing-forward-2026-prairies-affordable-housing-summit/
LOCATION:Edmonton Convention Centre\, 9797 JASPER AVE.\,\, Edmonton\, Alberta\, T5J 1N9\, Canada
CATEGORIES:Conference
END:VEVENT
BEGIN:VEVENT
DTSTART;VALUE=DATE:20260528
DTEND;VALUE=DATE:20260531
DTSTAMP:20260421T061551
CREATED:20260303T195325Z
LAST-MODIFIED:20260303T195325Z
UID:10000082-1779926400-1780185599@centre.support
SUMMARY:NBNPHA Conference
DESCRIPTION:NBNPHA was founded in August 1993 and now represents 170 non-profit and co-op organizations that provide 6\,500 affordable housing units throughout New Brunswick. \nMore information on programming and Centre participation to come.
URL:https://centre.support/event/nbnpha-conference/
CATEGORIES:Conference
END:VEVENT
END:VCALENDAR