BEGIN:VCALENDAR
VERSION:2.0
PRODID:-//Community Housing Transformation Centre - Centre de transformation du logement communautaire - ECPv6.15.20//NONSGML v1.0//EN
CALSCALE:GREGORIAN
METHOD:PUBLISH
X-ORIGINAL-URL:https://centre.support/fr/
X-WR-CALDESC:Évènements pour Community Housing Transformation Centre - Centre de transformation du logement communautaire
REFRESH-INTERVAL;VALUE=DURATION:PT1H
X-Robots-Tag:noindex
X-PUBLISHED-TTL:PT1H
BEGIN:VTIMEZONE
TZID:America/New_York
BEGIN:DAYLIGHT
TZOFFSETFROM:-0500
TZOFFSETTO:-0400
TZNAME:EDT
DTSTART:20250309T070000
END:DAYLIGHT
BEGIN:STANDARD
TZOFFSETFROM:-0400
TZOFFSETTO:-0500
TZNAME:EST
DTSTART:20251102T060000
END:STANDARD
BEGIN:DAYLIGHT
TZOFFSETFROM:-0500
TZOFFSETTO:-0400
TZNAME:EDT
DTSTART:20260308T070000
END:DAYLIGHT
BEGIN:STANDARD
TZOFFSETFROM:-0400
TZOFFSETTO:-0500
TZNAME:EST
DTSTART:20261101T060000
END:STANDARD
BEGIN:DAYLIGHT
TZOFFSETFROM:-0500
TZOFFSETTO:-0400
TZNAME:EDT
DTSTART:20270314T070000
END:DAYLIGHT
BEGIN:STANDARD
TZOFFSETFROM:-0400
TZOFFSETTO:-0500
TZNAME:EST
DTSTART:20271107T060000
END:STANDARD
END:VTIMEZONE
BEGIN:VEVENT
DTSTART;TZID=America/New_York:20260225T130000
DTEND;TZID=America/New_York:20260225T140000
DTSTAMP:20260419T120444
CREATED:20260122T121002Z
LAST-MODIFIED:20260402T195331Z
UID:10000067-1772024400-1772028000@centre.support
SUMMARY:Renforcer la stratégie numérique\, amplifier l'impact sectoriel : les enseignements tirés des pratiques du Centre
DESCRIPTION:Écoutez cette session pour une exploration concrète des enseignements tirés de deux années de tests\, d’analyses et d’expérimentations dans les domaines de la stratégie web\, des médias sociaux\, de la publicité numérique et de l’utilisation du programme Google Ads Grant. \nDans le cadre de la série du Centre sur le partage de connaissances\, ce webinaire a partagé\, sous forme d’étude de cas\, le parcours numérique du Centre\, notamment : \n\nLes stratégies qui ont amélioré la visibilité de nos services et de notre contenu en ligne\nLes résultats des campagnes publicitaires payantes et gratuites\nLes principales conclusions tirées de l’expérimentation d’outils numériques accessibles\nLes leviers numériques qui peuvent aider le secteur à renforcer sa visibilité.\n\n  \n“Votre site web doit remplir une seule fonction et la remplir correctement. En 5 secondes\, une personne doit pouvoir se faire une idée générale du contenu de votre site et de son public cible.” Jean-François Pagé\, Le Centre \n  \nVoir l’enregistrement du webinaire (audio interprétation en français) \n \n  \nEnvie d’en savoir plus ? Voici des ressources complémentaires \nTélécharger le support de présentation \nTélécharger l’Étude de cas \nEn savoir plus \n  \nRessources associées dans notre Inventaire des ressources : \nExploiter le potentiel numérique du secteur à but non lucratif pour renforcer les services communautaires \nTechSoup Canada \nParcourez notre Inventaire des ressources pour davantage de références.
URL:https://centre.support/fr/event/renforcer-la-strategie-numerique-amplifier-limpact-sectoriel-les-enseignements-tires-des-pratiques-du-centre/
CATEGORIES:Webinaire
LOCATION:
END:VEVENT
END:VCALENDAR