BEGIN:VCALENDAR
VERSION:2.0
PRODID:-//Community Housing Transformation Centre - Centre de transformation du logement communautaire - ECPv6.15.20//NONSGML v1.0//EN
CALSCALE:GREGORIAN
METHOD:PUBLISH
X-ORIGINAL-URL:https://centre.support/fr/
X-WR-CALDESC:Évènements pour Community Housing Transformation Centre - Centre de transformation du logement communautaire
REFRESH-INTERVAL;VALUE=DURATION:PT1H
X-Robots-Tag:noindex
X-PUBLISHED-TTL:PT1H
BEGIN:VTIMEZONE
TZID:America/New_York
BEGIN:DAYLIGHT
TZOFFSETFROM:-0500
TZOFFSETTO:-0400
TZNAME:EDT
DTSTART:20250309T070000
END:DAYLIGHT
BEGIN:STANDARD
TZOFFSETFROM:-0400
TZOFFSETTO:-0500
TZNAME:EST
DTSTART:20251102T060000
END:STANDARD
BEGIN:DAYLIGHT
TZOFFSETFROM:-0500
TZOFFSETTO:-0400
TZNAME:EDT
DTSTART:20260308T070000
END:DAYLIGHT
BEGIN:STANDARD
TZOFFSETFROM:-0400
TZOFFSETTO:-0500
TZNAME:EST
DTSTART:20261101T060000
END:STANDARD
BEGIN:DAYLIGHT
TZOFFSETFROM:-0500
TZOFFSETTO:-0400
TZNAME:EDT
DTSTART:20270314T070000
END:DAYLIGHT
BEGIN:STANDARD
TZOFFSETFROM:-0400
TZOFFSETTO:-0500
TZNAME:EST
DTSTART:20271107T060000
END:STANDARD
END:VTIMEZONE
BEGIN:VEVENT
DTSTART;TZID=America/New_York:20260423T130000
DTEND;TZID=America/New_York:20260423T140000
DTSTAMP:20260419T102425
CREATED:20260226T205223Z
LAST-MODIFIED:20260226T205223Z
UID:10000075-1776949200-1776952800@centre.support
SUMMARY:Économiser grâce à la rénovation et à la construction écoénergétiques
DESCRIPTION:L’efficacité énergétique est souvent perçue comme coûteuse\, complexe ou hors de portée pour les fournisseurs de logements communautaires. Et si plusieurs de ces idées étaient de fausses perceptions ? \nRejoignez-nous pour un webinaire d’une heure\, concret et ciblé\, qui examinera les réalités de la performance énergétique dans le logement communautaire. Conçue pour les fournisseurs de logements\, les gestionnaires d’actifs et les leaders du secteur partout au Canada\, cette séance déconstruira certains mythes courants sur l’efficacité énergétique et démontrera comment des solutions écologiquement responsables peuvent également être économiquement viables. \nDans le cadre de la série du Centre sur le partage de connaissances\, ce webinaire reviendra sur des exemples concrets issus du secteur du logement communautaire. Nos experts présenteront des stratégies pratiques permettant d’améliorer la performance des bâtiments tout en préservant la viabilité financière à long terme. La séance abordera les approches de conception passive et résiliente\, les options de production d’énergie sur site\, ainsi que le rôle de cadres de construction (Net Zéro\, Passivhaus\, etc.). \nLes participant·es en apprendront également davantage sur le programme des accompagnateur·ices régionaux en énergie (ARE)\, une initiative nationale de soutien qui aide les organisations de logement communautaire à planifier leurs projets énergétiques\, à identifier des possibilités de financement et à mettre en œuvre leurs stratégies. \nQue vous planifiiez une rénovation\, envisagiez un nouveau projet de développement ou cherchiez à améliorer vos pratiques de gestion d’actifs\, ce webinaire vous offrira des repères clairs\, des outils crédibles et des pistes d’action concrètes pour soutenir une prise de décision éclairée. \nNote : ce webinaire sera proposé en anglais et en français grâce à de l’interprétation simultanée.
URL:https://centre.support/fr/event/economiser-grace-a-la-renovation-et-a-la-construction-ecoenergetiques/
CATEGORIES:Webinaire
LOCATION:https://zoom.us/meeting/register/ELcIR4AKQ5yZMz83D-FCGw
END:VEVENT
END:VCALENDAR